BEGIN:VCALENDAR
VERSION:2.0
PRODID:-// - ECPv5.14.1//NONSGML v1.0//EN
CALSCALE:GREGORIAN
METHOD:PUBLISH
X-ORIGINAL-URL:https://creativecubenj.com
X-WR-CALDESC:Events for 
REFRESH-INTERVAL;VALUE=DURATION:PT1H
X-Robots-Tag:noindex
X-PUBLISHED-TTL:PT1H
BEGIN:VTIMEZONE
TZID:UTC
BEGIN:STANDARD
TZOFFSETFROM:+0000
TZOFFSETTO:+0000
TZNAME:UTC
DTSTART:20220101T000000
END:STANDARD
END:VTIMEZONE
BEGIN:VEVENT
DTSTART;TZID=UTC:20220504T160000
DTEND;TZID=UTC:20220504T180000
DTSTAMP:20260425T135603
CREATED:20220426T162656Z
LAST-MODIFIED:20220426T162710Z
UID:4865-1651680000-1651687200@creativecubenj.com
SUMMARY:Mother's Day Drop-off Event
DESCRIPTION:Special Event! Mother’s Day Drop-off for crafting\, snacks\, chit-chat\, and more! Crafting is a multi-media SURPRISE for Mom! Ages 5-12.
URL:https://creativecubenj.com/calendar/mothers-day-drop-off-event/
LOCATION:165 Morristown Road\, Bernardsville\, NJ 07924
CATEGORIES:Special Event
END:VEVENT
BEGIN:VEVENT
DTSTART;TZID=UTC:20220507T160000
DTEND;TZID=UTC:20220507T180000
DTSTAMP:20260425T135603
CREATED:20220426T162845Z
LAST-MODIFIED:20220426T162847Z
UID:4869-1651939200-1651946400@creativecubenj.com
SUMMARY:Mother's Day Drop-off Event
DESCRIPTION:Special Event! Mother’s Day Drop-off for crafting\, snacks\, chit-chat\, and more! Crafting is a multi-media SURPRISE for Mom! Ages 5-12.
URL:https://creativecubenj.com/calendar/mothers-day-drop-off-event-2/
LOCATION:165 Morristown Road\, Bernardsville\, NJ 07924
CATEGORIES:Special Event
END:VEVENT
BEGIN:VEVENT
DTSTART;TZID=UTC:20220515T140000
DTEND;TZID=UTC:20220515T160000
DTSTAMP:20260425T135603
CREATED:20220513T154455Z
LAST-MODIFIED:20220513T154456Z
UID:5157-1652623200-1652630400@creativecubenj.com
SUMMARY:Rock Painting Class & Play
DESCRIPTION:Join us for a rock painting class where you will learn how to create super fun and cute rock figurines that can be used to decorate gardens\, flower pots\, or display inside! This painting class is on Sunday\, May 15 from 2-4pm.  Drop off you 4-8 year-old for a super-fun afternoon of crafting as well as open play in our indoor and outdoor play areas.  All of your child’s creations will be ready to take home at the end of the session!
URL:https://creativecubenj.com/calendar/rock-painting-class-play/
CATEGORIES:Special Event
END:VEVENT
END:VCALENDAR