BEGIN:VCALENDAR
VERSION:2.0
PRODID:-// - ECPv5.14.1//NONSGML v1.0//EN
CALSCALE:GREGORIAN
METHOD:PUBLISH
X-ORIGINAL-URL:https://creativecubenj.com
X-WR-CALDESC:Events for 
REFRESH-INTERVAL;VALUE=DURATION:PT1H
X-Robots-Tag:noindex
X-PUBLISHED-TTL:PT1H
BEGIN:VTIMEZONE
TZID:UTC
BEGIN:STANDARD
TZOFFSETFROM:+0000
TZOFFSETTO:+0000
TZNAME:UTC
DTSTART:20220101T000000
END:STANDARD
END:VTIMEZONE
BEGIN:VEVENT
DTSTART;TZID=UTC:20220409T120000
DTEND;TZID=UTC:20220409T160000
DTSTAMP:20260425T153651
CREATED:20220405T135952Z
LAST-MODIFIED:20220405T140106Z
UID:4746-1649505600-1649520000@creativecubenj.com
SUMMARY:Bernardsville Eggstravaganza!
DESCRIPTION:Join us at the Easter Eggstravaganza at the Bernardsville Pool from 12:00 – 4:00 pm!  Enjoy Easter eggs hunts\, meet the Easter bunny\, and join us for an Easter-themed craft.   \n\n\n\n \n\n\n\nhttps://downtownbernardsville.org/events/easter-eggstravaganza/
URL:https://creativecubenj.com/calendar/bernardsville-eggstravaganza/
LOCATION:Bernardsville Pool – 141 Seney Drive\, Bernardsville
CATEGORIES:Special Event
END:VEVENT
BEGIN:VEVENT
DTSTART;TZID=UTC:20220410T000000
DTEND;TZID=UTC:20220410T235959
DTSTAMP:20260425T153651
CREATED:20220405T141135Z
LAST-MODIFIED:20220405T141136Z
UID:4751-1649548800-1649635199@creativecubenj.com
SUMMARY:Reserved for Parties
DESCRIPTION:Please check other days for Open Play and Open Craft availability!
URL:https://creativecubenj.com/calendar/reserved-for-parties/
CATEGORIES:Reserved for Parties
END:VEVENT
BEGIN:VEVENT
DTSTART;TZID=UTC:20220423T153000
DTEND;TZID=UTC:20220423T173000
DTSTAMP:20260425T153651
CREATED:20220422T123854Z
LAST-MODIFIED:20220422T132027Z
UID:4844-1650727800-1650735000@creativecubenj.com
SUMMARY:Ribbon Cutting with Mayor Canose & Play and Craft!
DESCRIPTION:Meet Mayor Canose at our ribbon-cutting event\, and stay for playtime or crafting!  All tickets are 20% off and also receive 20% off all of our yummy treats at our cafe.
URL:https://creativecubenj.com/calendar/ribbon-cutting-with-mayor-canose/
CATEGORIES:Special Event
END:VEVENT
END:VCALENDAR