BEGIN:VCALENDAR
VERSION:2.0
PRODID:-// - ECPv5.14.1//NONSGML v1.0//EN
CALSCALE:GREGORIAN
METHOD:PUBLISH
X-ORIGINAL-URL:https://creativecubenj.com
X-WR-CALDESC:Events for 
REFRESH-INTERVAL;VALUE=DURATION:PT1H
X-Robots-Tag:noindex
X-PUBLISHED-TTL:PT1H
BEGIN:VTIMEZONE
TZID:UTC
BEGIN:STANDARD
TZOFFSETFROM:+0000
TZOFFSETTO:+0000
TZNAME:UTC
DTSTART:20220101T000000
END:STANDARD
END:VTIMEZONE
BEGIN:VEVENT
DTSTART;TZID=UTC:20221223T180000
DTEND;TZID=UTC:20221223T200000
DTSTAMP:20260425T102129
CREATED:20221212T215736Z
LAST-MODIFIED:20221212T215811Z
UID:6209-1671818400-1671825600@creativecubenj.com
SUMMARY:Adult Craft Night
DESCRIPTION:Adults\, this is for you! Peel away for an evening and enjoy open crafting\, BYOB/BYOW\, light snacks\, and some adult time! Adult Craft Night admission for 1 person (ages 21+) to enjoy one craft activity to be chosen from glass fusing\, pre-made ceramics\, clay building\, and canvas painting. Craft offerings may vary. Creative Cube reserves the right to require proof of age for entry. Hard liquor not permitted. Click below to check availability.
URL:https://creativecubenj.com/calendar/adult-craft-night/2022-12-23/
LOCATION:165 Morristown Road\, Bernardsville\, NJ 07924
CATEGORIES:Adult Craft Night
END:VEVENT
END:VCALENDAR