BEGIN:VCALENDAR
VERSION:2.0
PRODID:-// - ECPv5.14.1//NONSGML v1.0//EN
CALSCALE:GREGORIAN
METHOD:PUBLISH
X-ORIGINAL-URL:https://creativecubenj.com
X-WR-CALDESC:Events for 
REFRESH-INTERVAL;VALUE=DURATION:PT1H
X-Robots-Tag:noindex
X-PUBLISHED-TTL:PT1H
BEGIN:VTIMEZONE
TZID:UTC
BEGIN:STANDARD
TZOFFSETFROM:+0000
TZOFFSETTO:+0000
TZNAME:UTC
DTSTART:20220101T000000
END:STANDARD
END:VTIMEZONE
BEGIN:VEVENT
DTSTART;TZID=UTC:20221214T103000
DTEND;TZID=UTC:20221214T123000
DTSTAMP:20260425T162952
CREATED:20220426T164704Z
LAST-MODIFIED:20221212T213934Z
UID:4874-1671013800-1671021000@creativecubenj.com
SUMMARY:Open Play - morning
DESCRIPTION:Join us for Open Play in our Castle Town in the morning and come when it is convenient for you during our Open Play time…and stay for as long as you’d like during our Play time! Get tickets in advance (button below) or drop in\, space permitting! Be sure to check availability by clicking the link below. Ages 0-8.
URL:https://creativecubenj.com/calendar/open-play-morning/2022-12-14/
LOCATION:165 Morristown Road\, Bernardsville\, NJ 07924
CATEGORIES:Open Play - Mornings
END:VEVENT
BEGIN:VEVENT
DTSTART;TZID=UTC:20221214T103000
DTEND;TZID=UTC:20221214T123000
DTSTAMP:20260425T162952
CREATED:20221212T215006Z
LAST-MODIFIED:20221212T215007Z
UID:6145-1671013800-1671021000@creativecubenj.com
SUMMARY:Open Craft - mornings
DESCRIPTION:Join us for morning crafting! Ages 4+. Choose from a wide variety of pre-made ceramics for painting\, or work with clay\, glass fusing\, or mosaics. Projects vary by age of participant. Come any time during our morning hours and relax with some art! Please click the link below to check availability.
URL:https://creativecubenj.com/calendar/open-craft-mornings/2022-12-14/
LOCATION:165 Morristown Road\, Bernardsville\, NJ 07924
CATEGORIES:Open Craft - Mornings
END:VEVENT
BEGIN:VEVENT
DTSTART;TZID=UTC:20221223T180000
DTEND;TZID=UTC:20221223T200000
DTSTAMP:20260425T162952
CREATED:20221212T215736Z
LAST-MODIFIED:20221212T215811Z
UID:6209-1671818400-1671825600@creativecubenj.com
SUMMARY:Adult Craft Night
DESCRIPTION:Adults\, this is for you! Peel away for an evening and enjoy open crafting\, BYOB/BYOW\, light snacks\, and some adult time! Adult Craft Night admission for 1 person (ages 21+) to enjoy one craft activity to be chosen from glass fusing\, pre-made ceramics\, clay building\, and canvas painting. Craft offerings may vary. Creative Cube reserves the right to require proof of age for entry. Hard liquor not permitted. Click below to check availability.
URL:https://creativecubenj.com/calendar/adult-craft-night/2022-12-23/
LOCATION:165 Morristown Road\, Bernardsville\, NJ 07924
CATEGORIES:Adult Craft Night
END:VEVENT
END:VCALENDAR