BEGIN:VCALENDAR
VERSION:2.0
PRODID:-// - ECPv5.14.1//NONSGML v1.0//EN
CALSCALE:GREGORIAN
METHOD:PUBLISH
X-ORIGINAL-URL:https://creativecubenj.com
X-WR-CALDESC:Events for 
REFRESH-INTERVAL;VALUE=DURATION:PT1H
X-Robots-Tag:noindex
X-PUBLISHED-TTL:PT1H
BEGIN:VTIMEZONE
TZID:UTC
BEGIN:STANDARD
TZOFFSETFROM:+0000
TZOFFSETTO:+0000
TZNAME:UTC
DTSTART:20220101T000000
END:STANDARD
END:VTIMEZONE
BEGIN:VEVENT
DTSTART;TZID=UTC:20220702T000000
DTEND;TZID=UTC:20220704T235959
DTSTAMP:20260425T114223
CREATED:20220624T171230Z
LAST-MODIFIED:20220624T171231Z
UID:5589-1656720000-1656979199@creativecubenj.com
SUMMARY:Closed - July 4 weekend
DESCRIPTION:
URL:https://creativecubenj.com/calendar/closed-july-4-weekend/
CATEGORIES:Holiday
END:VEVENT
END:VCALENDAR