BEGIN:VCALENDAR
VERSION:2.0
PRODID:-// - ECPv5.14.1//NONSGML v1.0//EN
CALSCALE:GREGORIAN
METHOD:PUBLISH
X-ORIGINAL-URL:https://creativecubenj.com
X-WR-CALDESC:Events for 
REFRESH-INTERVAL;VALUE=DURATION:PT1H
X-Robots-Tag:noindex
X-PUBLISHED-TTL:PT1H
BEGIN:VTIMEZONE
TZID:UTC
BEGIN:STANDARD
TZOFFSETFROM:+0000
TZOFFSETTO:+0000
TZNAME:UTC
DTSTART:20220101T000000
END:STANDARD
END:VTIMEZONE
BEGIN:VEVENT
DTSTART;TZID=UTC:20220620T090000
DTEND;TZID=UTC:20220623T120000
DTSTAMP:20260425T135241
CREATED:20220604T152254Z
LAST-MODIFIED:20220604T152255Z
UID:5190-1655715600-1655985600@creativecubenj.com
SUMMARY:Summer CAMP!
DESCRIPTION:These camps are offered through the Bernardsville Recreation Center. \n\n\n\nWe are also offering camps in August directly through our website.  \n\n\n\n \n\n\n\nJune 20-23\, 9am-12pm \n\n\n\nEntering Grade 3 – Entering Grade 6 \n\n\n\nEverything Art! \n\n\n\nEach day\, explore a different medium\, including painting on canvas\, beading\, glass fusing\, and working with clay.  \n\n\n\n$265 residents\, $285 non-residents \n\n\n\n \n\n\n\nJune 27-30\, 9am-12pm \n\n\n\nEntering Grade 5 – Entering Grade 8 \n\n\n\nPottery Camp \n\n\n\nHand-build clay pinch pots\, coil pots\, figurines\, and tiles. Learn to throw pots on a professional pottery wheel! \n\n\n\n$265 residents\, $285 non-residents \n\n\n\n \n\n\n\nJune 27-30\, 9am-12pm \n\n\n\nEntering Grade K – Entering Grade 2 \n\n\n\nMusic & Play Camp \n\n\n\nJoin us on a musical exploration as we get hands-on at our NJ Academy of Music (same building as Creative Cube) with real violins\, violas\, cellos\, guitars\, keyboards\, and drums. We’ll also sing\, dance\, jam\, wiggle\, and shake\, and read. Campers will also explore related arts and crafts\, such as making their own instruments. The morning will also include creative play time in our custom-built castle play space.  \n\n\n\n$225 residents\, $245 non-residents
URL:https://creativecubenj.com/calendar/summer-camp-2/2022-06-20/
LOCATION:165 Morristown Road\, Bernardsville\, NJ 07924
CATEGORIES:Summer CAMP!
END:VEVENT
BEGIN:VEVENT
DTSTART;TZID=UTC:20220620T120000
DTEND;TZID=UTC:20220620T170000
DTSTAMP:20260425T135241
CREATED:20220604T153753Z
LAST-MODIFIED:20220608T185844Z
UID:5203-1655726400-1655744400@creativecubenj.com
SUMMARY:SUMMER Open Play
DESCRIPTION:Open Play in our Castle Town and come when it is convenient for you during our Open Play time…and stay for as long as you’d like during our Play time! Get tickets in advance (button below) or drop in\, space permitting! Ages 0-8.
URL:https://creativecubenj.com/calendar/summer-open-play-2/2022-06-20/
CATEGORIES:SUMMER Open Play
END:VEVENT
BEGIN:VEVENT
DTSTART;TZID=UTC:20220620T120000
DTEND;TZID=UTC:20220620T180000
DTSTAMP:20260425T135241
CREATED:20220604T154614Z
LAST-MODIFIED:20220608T190002Z
UID:5354-1655726400-1655748000@creativecubenj.com
SUMMARY:SUMMER Open Craft
DESCRIPTION:Open Craft time in our Art Room! Purchase tickets by clicking on the button below\, or drop in\, space permitting! Come any time during this timeframe\, and take your time crafting! \n\n\n\nChoose from a wide variety of crafts\, including glass fusing\, mosaics\, painting\, clay working\, and more! Price includes sitting fee and standard project materials. Add-ons are available for enhancements to projects\, including fancy glass features\, glazing\, shaping\, etc.
URL:https://creativecubenj.com/calendar/summer-open-craft-2/2022-06-20/
CATEGORIES:SUMMER Open Craft
END:VEVENT
END:VCALENDAR