BEGIN:VCALENDAR
VERSION:2.0
PRODID:-// - ECPv5.14.1//NONSGML v1.0//EN
CALSCALE:GREGORIAN
METHOD:PUBLISH
X-ORIGINAL-URL:https://creativecubenj.com
X-WR-CALDESC:Events for 
REFRESH-INTERVAL;VALUE=DURATION:PT1H
X-Robots-Tag:noindex
X-PUBLISHED-TTL:PT1H
BEGIN:VTIMEZONE
TZID:UTC
BEGIN:STANDARD
TZOFFSETFROM:+0000
TZOFFSETTO:+0000
TZNAME:UTC
DTSTART:20220101T000000
END:STANDARD
END:VTIMEZONE
BEGIN:VEVENT
DTSTART;TZID=UTC:20220613T140000
DTEND;TZID=UTC:20220613T180000
DTSTAMP:20260425T135304
CREATED:20220604T153437Z
LAST-MODIFIED:20220608T190337Z
UID:5193-1655128800-1655143200@creativecubenj.com
SUMMARY:SUMMER Open Play
DESCRIPTION:Open Play in our Castle Town and come when it is convenient for you during our Open Play time…and stay for as long as you’d like during our Play time! Get tickets in advance (button below) or drop in\, space permitting! Ages 0-8.
URL:https://creativecubenj.com/calendar/summer-open-play/2022-06-13/
CATEGORIES:SUMMER Open Play
END:VEVENT
BEGIN:VEVENT
DTSTART;TZID=UTC:20220613T140000
DTEND;TZID=UTC:20220613T180000
DTSTAMP:20260425T135304
CREATED:20220604T154426Z
LAST-MODIFIED:20220608T190216Z
UID:5348-1655128800-1655143200@creativecubenj.com
SUMMARY:SUMMER Open Craft
DESCRIPTION:Open Craft time in our Art Room! Purchase tickets by clicking on the button below\, or drop in\, space permitting! Come any time during this timeframe\, and take your time crafting! \n\n\n\nChoose from a wide variety of crafts\, including glass fusing\, mosaics\, painting\, clay working\, and more! Price includes sitting fee and standard project materials. Add-ons are available for enhancements to projects\, including fancy glass features\, glazing\, shaping\, etc.
URL:https://creativecubenj.com/calendar/summer-open-craft/2022-06-13/
CATEGORIES:SUMMER Open Craft
END:VEVENT
END:VCALENDAR