BEGIN:VCALENDAR
VERSION:2.0
PRODID:-// - ECPv5.14.1//NONSGML v1.0//EN
CALSCALE:GREGORIAN
METHOD:PUBLISH
X-ORIGINAL-URL:https://creativecubenj.com
X-WR-CALDESC:Events for 
REFRESH-INTERVAL;VALUE=DURATION:PT1H
X-Robots-Tag:noindex
X-PUBLISHED-TTL:PT1H
BEGIN:VTIMEZONE
TZID:UTC
BEGIN:STANDARD
TZOFFSETFROM:+0000
TZOFFSETTO:+0000
TZNAME:UTC
DTSTART:20220101T000000
END:STANDARD
END:VTIMEZONE
BEGIN:VEVENT
DTSTART;TZID=UTC:20220611T120000
DTEND;TZID=UTC:20220611T140000
DTSTAMP:20260425T135252
CREATED:20220611T025807Z
LAST-MODIFIED:20220611T025856Z
UID:5567-1654948800-1654956000@creativecubenj.com
SUMMARY:WEEKEND Open Play
DESCRIPTION:Open Play in our Castle Town in the afternoon and come when it is convenient for you during our Open Play time…and stay for as long as you’d like during our Play time! Get tickets in advance (button below) or drop in\, space permitting! Ages 0-8.
URL:https://creativecubenj.com/calendar/weekend-open-play-2/2022-06-11/
CATEGORIES:WEEKEND Open Play
END:VEVENT
END:VCALENDAR