BEGIN:VCALENDAR
VERSION:2.0
PRODID:-// - ECPv5.14.1//NONSGML v1.0//EN
CALSCALE:GREGORIAN
METHOD:PUBLISH
X-ORIGINAL-URL:https://creativecubenj.com
X-WR-CALDESC:Events for 
REFRESH-INTERVAL;VALUE=DURATION:PT1H
X-Robots-Tag:noindex
X-PUBLISHED-TTL:PT1H
BEGIN:VTIMEZONE
TZID:UTC
BEGIN:STANDARD
TZOFFSETFROM:+0000
TZOFFSETTO:+0000
TZNAME:UTC
DTSTART:20220101T000000
END:STANDARD
END:VTIMEZONE
BEGIN:VEVENT
DTSTART;TZID=UTC:20220604T120000
DTEND;TZID=UTC:20220604T150000
DTSTAMP:20260425T135200
CREATED:20220604T145557Z
LAST-MODIFIED:20220604T145558Z
UID:5172-1654344000-1654354800@creativecubenj.com
SUMMARY:DROP OFF Craft & Play
DESCRIPTION:Drop off your child ages 4-8 for an awesome afternoon with our staff! We’ll do crafting of their choice\, plus play time in our Castle Town\, a snack in our café\, and outdoor play\, weather permitting! Arrive any time during our DROP OFF hours\, and pick up by end of drop off hours. \n\n\n\n \n\n\n\nBuy tickets ahead of time (purchase WEEKEND Open Craft ticket) and then pay for drop-off time at the end!  \n\n\n\n \n\n\n\n$15 for Craft ticket plus $10 per hour of drop-off. \n\n\n\nWalk-ins welcome.
URL:https://creativecubenj.com/calendar/drop-off-craft-play/2022-06-04/
LOCATION:165 Morristown Road\, Bernardsville\, NJ 07924
CATEGORIES:DROP OFF Craft & Play
END:VEVENT
END:VCALENDAR