BEGIN:VCALENDAR
VERSION:2.0
PRODID:-// - ECPv5.14.1//NONSGML v1.0//EN
CALSCALE:GREGORIAN
METHOD:PUBLISH
X-ORIGINAL-URL:https://creativecubenj.com
X-WR-CALDESC:Events for 
REFRESH-INTERVAL;VALUE=DURATION:PT1H
X-Robots-Tag:noindex
X-PUBLISHED-TTL:PT1H
BEGIN:VTIMEZONE
TZID:UTC
BEGIN:STANDARD
TZOFFSETFROM:+0000
TZOFFSETTO:+0000
TZNAME:UTC
DTSTART:20220101T000000
END:STANDARD
END:VTIMEZONE
BEGIN:VEVENT
DTSTART;TZID=UTC:20220515T140000
DTEND;TZID=UTC:20220515T160000
DTSTAMP:20260425T152529
CREATED:20220513T154455Z
LAST-MODIFIED:20220513T154456Z
UID:5157-1652623200-1652630400@creativecubenj.com
SUMMARY:Rock Painting Class & Play
DESCRIPTION:Join us for a rock painting class where you will learn how to create super fun and cute rock figurines that can be used to decorate gardens\, flower pots\, or display inside! This painting class is on Sunday\, May 15 from 2-4pm.  Drop off you 4-8 year-old for a super-fun afternoon of crafting as well as open play in our indoor and outdoor play areas.  All of your child’s creations will be ready to take home at the end of the session!
URL:https://creativecubenj.com/calendar/rock-painting-class-play/
CATEGORIES:Special Event
END:VEVENT
END:VCALENDAR