BEGIN:VCALENDAR
VERSION:2.0
PRODID:-// - ECPv5.14.1//NONSGML v1.0//EN
CALSCALE:GREGORIAN
METHOD:PUBLISH
X-ORIGINAL-URL:https://creativecubenj.com
X-WR-CALDESC:Events for 
REFRESH-INTERVAL;VALUE=DURATION:PT1H
X-Robots-Tag:noindex
X-PUBLISHED-TTL:PT1H
BEGIN:VTIMEZONE
TZID:UTC
BEGIN:STANDARD
TZOFFSETFROM:+0000
TZOFFSETTO:+0000
TZNAME:UTC
DTSTART:20220101T000000
END:STANDARD
END:VTIMEZONE
BEGIN:VEVENT
DTSTART;TZID=UTC:20220410T000000
DTEND;TZID=UTC:20220410T235959
DTSTAMP:20260425T165645
CREATED:20220405T141135Z
LAST-MODIFIED:20220405T141136Z
UID:4751-1649548800-1649635199@creativecubenj.com
SUMMARY:Reserved for Parties
DESCRIPTION:Please check other days for Open Play and Open Craft availability!
URL:https://creativecubenj.com/calendar/reserved-for-parties/
CATEGORIES:Reserved for Parties
END:VEVENT
END:VCALENDAR